BEGIN:VCALENDAR
VERSION:2.0
PRODID:-//Squarespace Inc/Squarespace 6//v6//EN
BEGIN:VEVENT
UID:5e8c1d65aeda723cc6eea305@squarespace.com
DTSTAMP:20201023T003810Z
DTSTART:20201122T063000Z
DTEND:20201122T073000Z
SUMMARY:South West Refuge Annual Golf Day
END:VEVENT
END:VCALENDAR
